Workbook
Name __123Graph_XGRAPH3: NA()
Name aa: (NA(),NA())
Name ad: '[1]МТР Газ України'!$B$1
Name as: '[2]МТР Газ України'!$B$1
Name asdf: [3]Inform!$E$6
Name asdfg: [3]Inform!$F$2
Name BuiltIn_Print_Area___1___1: #REF!
Name ClDate: [5]Inform!$E$6
Name ClDate_21: [6]Inform!$E$6
Name ClDate_25: [6]Inform!$E$6
Name ClDate_6: [7]Inform!$E$6
Name CompName: [5]Inform!$F$2
Name CompName_21: [6]Inform!$F$2
Name CompName_25: [6]Inform!$F$2
Name CompName_6: [7]Inform!$F$2
Name CompNameE: [5]Inform!$G$2
Name CompNameE_21: [6]Inform!$G$2
Name CompNameE_25: [6]Inform!$G$2
Name CompNameE_6: [7]Inform!$G$2
Name Cost_Category_National_ID: #REF!
Name Cе511: #REF!
Name d: '[8]МТР Газ України'!$B$4
Name dCPIb: NA()
Name dPPIb: NA()
Name ds: '[9]7 Інші витрати'!#REF!
Name Excel_BuiltIn_Database: '[10]Ener '!$A$1:$G$2645
Name Excel_BuiltIn_Print_Area: 'Осн. фін. пок.'!$A$1:$H$142
Name Excel_BuiltIn_Print_Area: 'Осн. фін. пок. (2)'!$A$1:$F$142
Name Excel_BuiltIn_Print_Titles: 'Осн. фін. пок.'!$31:$33
Name Excel_BuiltIn_Print_Titles: 'Осн. фін. пок. (2)'!$31:$33
Name Fact_Type_ID: #REF!
Name G: '[11]МТР Газ України'!$B$1
Name ij1sssss: '[12]7 Інші витрати'!#REF!
Name LastItem: [13]Лист1!$A$1
Name Load: '[14]МТР Газ України'!$B$4
Name Load_ID: '[15]МТР Газ України'!$B$4
Name Load_ID_10: '[16]7 Інші витрати'!#REF!
Name Load_ID_11: '[17]МТР Газ України'!$B$4
Name Load_ID_12: '[17]МТР Газ України'!$B$4
Name Load_ID_13: '[17]МТР Газ України'!$B$4
Name Load_ID_14: '[17]МТР Газ України'!$B$4
Name Load_ID_15: '[17]МТР Газ України'!$B$4
Name Load_ID_16: '[17]МТР Газ України'!$B$4
Name Load_ID_17: '[17]МТР Газ України'!$B$4
Name Load_ID_18: '[18]МТР Газ України'!$B$4
Name Load_ID_19: '[19]МТР Газ України'!$B$4
Name Load_ID_20: '[18]МТР Газ України'!$B$4
Name Load_ID_200: '[14]МТР Газ України'!$B$4
Name Load_ID_21: '[20]МТР Газ України'!$B$4
Name Load_ID_23: '[19]МТР Газ України'!$B$4
Name Load_ID_25: '[20]МТР Газ України'!$B$4
Name Load_ID_542: '[21]МТР Газ України'!$B$4
Name Load_ID_6: '[17]МТР Газ України'!$B$4
Name OpDate: [5]Inform!$E$5
Name OpDate_21: [6]Inform!$E$5
Name OpDate_25: [6]Inform!$E$5
Name OpDate_6: [7]Inform!$E$5
Name QR: [22]Inform!$E$5
Name qw: [3]Inform!$E$5
Name qwert: [3]Inform!$G$2

Sheet Осн. фін. пок. (2)
A6: СХВАЛЕНО
A7: рішенням виконавчого комітету Славутської міської ради
A8: від ________________ №_______
A13: Підприємство : Комунальне підприємство « Славутська міська лікарня ім..Ф.М.Михайлова » Славутської міської ради
A15: Організаційно-правова форма | B15: комунальне підприємство
A16: Суб'єкт управління
A17: Вид економічної діяльності
A18: Галузь | B18: охорона здоров"я
A19: Одиниця виміру, тис. грн
A20: Розмір державної частки у статутному капіталі
A21: Середньооблікова кількість штатних працівників | B21: 510
A22: Місцезнаходження | B22: м.Славута ,вул. Я.Мудрого ,29 "г"
A23: Телефон | B23: 7-20-10
A24: Прізвище та власне ім'я керівника | B24: Радзивілюк Леонід Анатолієвич
A27: ФІНАНСОВИЙ ПЛАН
A28: на 2025 рік
A29: Основні фінансові показники
A31: Найменування показника | B31: Код рядка | C31: План на рік | D31: Уточнений план | E31: Відхилення | F31: %відхилення
A33: 1 | B33: 2 | C33: 5 | D33: 4 | E33: 5 | F33: 6
A34: І. Формування фінансових результатів
A35: Чистий дохід від реалізації продукції (товарів, робіт, послуг), в тому числі | B35: 1000 | C35: =C36+C37+C38 -> 172000 | D35: ='Осн. фін. пок.'!D35 -> 172000 | E35: =D35-C35 -> 0 | F35: =(((1-(D35/C35))*100)) -> 0
A36: Кошти НСЗУ | C36: 168000 | D36: ='Осн. фін. пок.'!D36 -> 168000 | E36: =D36-C36 -> 0 | F36: =(((1-(D36/C36))*100)) -> 0
A37: …. | D37: ='Осн. фін. пок.'!D37 -> 0 | E37: =D37-C37 -> 0 | F37: =(((1-(D37/C37))*100)) -> #DIV/0!
A38: платні послуги | C38: 4000 | D38: ='Осн. фін. пок.'!D38 -> 4000 | E38: =D38-C38 -> 0 | F38: =(((1-(D38/C38))*100)) -> 0
A39: Інші операційні доходи | B39: 1001 | C39: 14600 | D39: ='Осн. фін. пок.'!D39 -> 25000 | E39: =D39-C39 -> 10400 | F39: =(((1-(D39/C39))*100)) -> -71.232877
A40: Інші доходи | B40: 1002 | C40: 4000 | D40: ='Осн. фін. пок.'!D40 -> 8000 | E40: =D40-C40 -> 4000 | F40: =(((1-(D40/C40))*100)) -> -100
A41: Разом доходи ( рядок 1000+1001+1002) | B41: 1003 | C41: =C35+C39+C40 -> 190600 | D41: ='Осн. фін. пок.'!D41 -> 205000 | E41: =D41-C41 -> 14400 | F41: =(((1-(D41/C41))*100)) -> -7.5550892
A42: Собівартість реалізованої продукції (товарів, робіт, послуг) | B42: 1004 | C42: 178900 | D42: ='Осн. фін. пок.'!D42 -> 190700 | E42: =D42-C42 -> 11800 | F42: =(((1-(D42/C42))*100)) -> -6.5958636
A43: Інші операційні витрати, в тому числі: | B43: 1005 | C43: =C44+C46 -> 11700 | D43: ='Осн. фін. пок.'!D43 -> 14300 | E43: =D43-C43 -> 2600 | F43: =(((1-(D43/C43))*100)) -> -22.222222
A44: адміністративні витрати | B44: 1006 | C44: 7300 | D44: ='Осн. фін. пок.'!D44 -> 7300 | E44: =D44-C44 -> 0 | F44: =(((1-(D44/C44))*100)) -> 0
A45: витрати на збут | B45: 1007 | D45: ='Осн. фін. пок.'!D45 -> 0 | E45: =D45-C45 -> 0
A46: інші операційні витрати | B46: 1008 | C46: 4400 | D46: ='Осн. фін. пок.'!D46 -> 7000 | E46: =D46-C46 -> 2600 | F46: =(((1-(D46/C46))*100)) -> -59.090909
A47: Інші витрати | B47: 1009 | D47: ='Осн. фін. пок.'!D47 -> 0 | E47: =D47-C47 -> 0
A48: Разом витрати ( рядок 1004+1005+1008) | B48: 1010 | C48: =C42+C43+C47 -> 190600 | D48: ='Осн. фін. пок.'!D48 -> 205000 | E48: =D48-C48 -> 14400 | F48: =(((1-(D48/C48))*100)) -> -7.5550892
A49: Фінансовий результат до оподаткуівання ( рядок 1003 - 1009) | B49: 1011 | C49: =C41-C48 -> 0 | D49: =D41-D48 -> 0 | E49: =D49-C49 -> 0
A50: Податок на прибуток | B50: 1012 | E50: =D50-C50 -> 0
A51: Чистий фінансовий результат ( ряд.1010-1011) | B51: 1013 | C51: =C49-C50 -> 0 | D51: =D49-D50 -> 0 | E51: =D51-C51 -> 0
A52: EBITDA ( ряд.1012+1020) | B52: 1014 | C52: 9200 | D52: ='Осн. фін. пок.'!D52 -> 12000 | E52: =D52-C52 -> 2800 | F52: =(((1-(D52/C52))*100)) -> -30.434783
A53: Елементи операційних витрат
A54: Матеріальні витрати, у тому числі: | B54: 1015 | C54: =C55+C56 -> 53700 | D54: ='Осн. фін. пок.'!D54 -> 62700 | E54: =D54-C54 -> 9000 | F54: =(((1-(D54/C54))*100)) -> -16.759777
...

Sheet Осн. фін. пок.
E1: Додаток 1
E2: до Порядку складання, затвердження та контролю
E3: виконання фінансових планів комунальних підприємств
E4: Славутської міської територіальної громади
A6: СХВАЛЕНО | E6: ЗАТВЕРДЖЕНО
A7: рішенням виконавчого комітету Славутської міської ради | E7: рішенням Славутської міської ради
A8: від ________________ №_______ | E8: від _______________№_______
E12: Код | G12: Внесення змін до затвердженного фінансового плану
A13: Підприємство : Комунальне підприємство « Славутська міська лікарня ім..Ф.М.Михайлова » Славутської міської ради | E13: за ЄДРПОУ | F13: 02004410 | G13: основний ФП (дата затвердження)
A15: Організаційно-правова форма | B15: комунальне підприємство | E15: за КОПФГ | F15: 150 | G15: змінений ФП (дата затвердження)
A16: Суб'єкт управління | E16: за СПОДУ | F16: 07184
A17: Вид економічної діяльності | E17: за КВЕД | F17: 86.22 | G17: змінений ФП (дата затвердження)
A18: Галузь | B18: охорона здоров"я
A19: Одиниця виміру, тис. грн | G19: змінений ФП (дата затвердження)
A20: Розмір державної частки у статутному капіталі
A21: Середньооблікова кількість штатних працівників | B21: 510 | G21: змінений ФП (дата затвердження)
A22: Місцезнаходження | B22: м.Славута ,вул. Я.Мудрого ,29 "г"
A23: Телефон | B23: 7-20-10 | F23: Стандарти звітності П(с)БОУ
A24: Прізвище та власне ім'я керівника | B24: Радзивілюк Леонід Анатолієвич | F24: Стандарти звітності МСФЗ
A27: ФІНАНСОВИЙ ПЛАН
A28: на 2025 рік
A29: Основні фінансові показники
A31: Найменування показника | B31: Код рядка | C31: Плановий рік | D31: Уточнений план | E31: в тому числі по кварталах
E32: І квартал | F32: ІІ квартал | G32: ІІІ квартал | H32: ІV квартал
A33: 1 | B33: 2 | C33: 5 | D33: 6 | E33: 7 | F33: 8 | G33: 9 | H33: 10
A34: І. Формування фінансових результатів
A35: Чистий дохід від реалізації продукції (товарів, робіт, послуг), в тому числі | B35: 1000 | C35: =C36+C37+C38 -> 172000 | D35: =D36+D37+D38 -> 172000 | E35: =E36+E37+E38 -> 43200 | F35: =F36+F37+F38 -> 43300 | G35: =G36+G37+G38 -> 42800 | H35: =H36+H37+H38 -> 42700
A36: Кошти НСЗУ | C36: 168000 | D36: =SUM(E36:H36) -> 168000 | E36: 42000 | F36: 42000 | G36: 42000 | H36: 42000
A37: ….
A38: платні послуги | C38: 4000 | D38: =SUM(E38:H38) -> 4000 | E38: 1200 | F38: 1300 | G38: 800 | H38: 700
A39: Інші операційні доходи | B39: 1001 | C39: 14600 | D39: =SUM(E39:H39) -> 25000 | E39: 6500 | F39: 6000 | G39: 6000 | H39: 6500
A40: Інші доходи | B40: 1002 | C40: 4000 | D40: =SUM(E40:H40) -> 8000 | E40: 2000 | F40: 2000 | G40: 2000 | H40: 2000
A41: Разом доходи ( рядок 1000+1001+1002) | B41: 1003 | C41: =C35+C39+C40 -> 190600 | D41: =D35+D39+D40 -> 205000 | E41: =E35+E39+E40 -> 51700 | F41: =F35+F39+F40 -> 51300 | G41: =G35+G39+G40 -> 50800 | H41: =H35+H39+H40 -> 51200
A42: Собівартість реалізованої продукції (товарів, робіт, послуг) | B42: 1004 | C42: 178900 | D42: =SUM(E42:H42) -> 190700 | E42: 48400 | F42: 48000 | G42: 47200 | H42: 47100
A43: Інші операційні витрати, в тому числі: | B43: 1005 | C43: =C44+C46 -> 11700 | D43: =D44+D46 -> 14300 | E43: =E44+E46 -> 3300 | F43: =F44+F46 -> 3300 | G43: =G44+G46 -> 3600 | H43: =H44+H46 -> 4100
A44: адміністративні витрати | B44: 1006 | C44: 7300 | D44: =SUM(E44:H44) -> 7300 | E44: 1700 | F44: 1700 | G44: 1700 | H44: 2200
A45: витрати на збут | B45: 1007
A46: інші операційні витрати | B46: 1008 | C46: 4400 | D46: =SUM(E46:H46) -> 7000 | E46: 1600 | F46: 1600 | G46: 1900 | H46: 1900
A47: Інші витрати | B47: 1009 | D47: =SUM(E47:H47) -> 0
A48: Разом витрати ( рядок 1004+1005+1008) | B48: 1010 | C48: =C42+C43+C47 -> 190600 | D48: =SUM(E48:H48) -> 205000 | E48: =E42+E43+E47 -> 51700 | F48: =F42+F43+F47 -> 51300 | G48: =G42+G43+G47 -> 50800 | H48: =H42+H43+H47 -> 51200
...
